BEGIN:VCALENDAR
VERSION:2.0
PRODID:-//Arizona Philharmonic - ECPv6.15.20//NONSGML v1.0//EN
CALSCALE:GREGORIAN
METHOD:PUBLISH
X-WR-CALNAME:Arizona Philharmonic
X-ORIGINAL-URL:https://azphil.org
X-WR-CALDESC:Events for Arizona Philharmonic
REFRESH-INTERVAL;VALUE=DURATION:PT1H
X-Robots-Tag:noindex
X-PUBLISHED-TTL:PT1H
BEGIN:VTIMEZONE
TZID:America/Phoenix
BEGIN:STANDARD
TZOFFSETFROM:-0700
TZOFFSETTO:-0700
TZNAME:MST
DTSTART:20210101T000000
END:STANDARD
END:VTIMEZONE
BEGIN:VEVENT
DTSTART;TZID=America/Phoenix:20230108T150000
DTEND;TZID=America/Phoenix:20230108T150000
DTSTAMP:20260424T143720
CREATED:20220415T145008Z
LAST-MODIFIED:20240909T161502Z
UID:3107-1673190000-1673190000@azphil.org
SUMMARY:James D’León and Friends 2023
DESCRIPTION:Piano Quintet and subsets\nPiano\, two Violins\, Viola\, Cello \n\nHaydn: Piano Trio No. 39 in G major\, Hob. XV/25 “Gypsy”\nMozart: Duo for Violin and Viola in G Major\, K. 423\nSchoenfield: Cafe Music\nSchumann: Piano Quintet in E-flat Major\, Op. 44\n\n\nJames D’León once again joins the Arizona Philharmonic String Quartet for another stunning piano quintet concert. Violinist Katie McLin\, other principal string players of Arizona Philharmonic\, and D’León present Haydn’s classical Piano Trio No. 39 in G major\, Robert Schumann’s luscious Piano Quintet\, and Paul Schoenfield’s jazzy and sensuous Cafe Music. \nFeaturing James D’León (piano)\, Katie McLin (violin 1)\, Luke Hill (violin 2)\, Kimberly Hankins (viola)\, and Ruthie Wilde (cello). \nListen to the music we’re performing here: \nhttpv://www.youtube.com/playlist?list=PLbiXD70LPpWMnf-q4yRBK_DnKAT9wQqsG \nWatch James offer some pre-concert commentary: \nhttpv://www.youtube.com/watch?v=0AiBpvnnjo4
URL:https://azphil.org/event/james-dleon-and-friends/
LOCATION:The Jim & Linda Lee Performing Arts Center\, 1100 East Sheldon St.\, Prescott\, AZ\, 86301\, United States
CATEGORIES:2022-23 Season,Past Events
ATTACH;FMTTYPE=image/jpeg:https://azphil.org/wp-content/uploads/2022/04/James-Quintet.Image_.JamesDLeon4-Lightened-scaled.jpg
END:VEVENT
BEGIN:VEVENT
DTSTART;TZID=America/Phoenix:20221204T150000
DTEND;TZID=America/Phoenix:20221204T150000
DTSTAMP:20260424T143720
CREATED:20221008T140810Z
LAST-MODIFIED:20221205T155347Z
UID:4591-1670166000-1670166000@azphil.org
SUMMARY:PAZ\, by Jácome Flamenco - A Flamenco Christmas Celebration
DESCRIPTION:This December 4\, 2022 3:00pm concert is at the Elks Theatre in Prescott\, AZ.\nInternationally acclaimed flamenco duo Chris & Lena Jácome team up with musicians from Arizona Philharmonic to offer a unique and unforgettable Holiday Experience. It is the spirit of PAZ (Spanish for peace) that inspires Chris Jácome’s flamenco-infused Christmas arrangements as well as original music. With Allen Ames on violin\, Jeannette Moore on flute\, and Ruthie Wilde on cello they will feature such Christmas favorites as Silent Night\, Little Drummer Boy\, and The First Noel. \nChris & Lena Jácome provide intimate\, inviting and exhilarating flamenco performances that only a perfectly matched pair can manifest. Chris and Lena’s mesmerizing concerts reflect kindred spirits who share their love for each other through their art. \nTheir exquisitely refined\, authentic and heartfelt approach to flamenco reflects years of training in Sevilla\, Spain built on top of their original American musical roots and formal ballet/modern dance training. They have published nine albums\, two DVDs\, sheet music\, and online training courses. Chris B. Jácome composes for the Jácome Flamenco touring company and has a number of orchestra\, chamber ensemble\, movie\, and television scores to his credit. \nThe Jácomes have performed internationally in Mexico\, Canada\, Spain and Indonesia\, and at prestigious venues such as the Lincoln Center in New York City and the Redlands Bowl in California. They are a regular visitor to Prescott\, having performed solo\, chamber\, and concerto concerts with Arizona Philharmonic. \nArizona Philharmonic (AZ Phil) is celebrating its fifth season in Prescott in 2022-2023 as Prescott’s regional professional orchestra\, presenting large and small concerts that engage and inspire listeners. Based in Prescott\, AZ Phil draws musicians from across Arizona and is committed to offering transformative music\, while nurturing community participation and supporting the needs and growth of the Prescott area performing arts scene. Recognized in 2021 by the Prescott Chamber of Commerce for Excellence in Arts and Culture\, Arizona Philharmonic is a 501(c)3 nonprofit organization. Ticket information\, sponsorship and volunteer opportunities can be found at AZPhil.org or on Facebook. \n\n\n\nAlso performing in Surprise\, AZ on Dec 3 at the Vista Center for the Arts. Click here.
URL:https://azphil.org/event/paz-by-jacome-flamenco-a-flamenco-christmas-celebration/
LOCATION:Elks Theater\, Prescott\, 117 E Gurley St\, Prescott\, AZ\, 86301\, United States
CATEGORIES:2022-23 Season,Holiday
ATTACH;FMTTYPE=image/jpeg:https://azphil.org/wp-content/uploads/2022/10/Flamenco-Featured-Text2b.jpg
END:VEVENT
BEGIN:VEVENT
DTSTART;TZID=America/Phoenix:20221203T150000
DTEND;TZID=America/Phoenix:20221204T150000
DTSTAMP:20260424T143720
CREATED:20221020T213831Z
LAST-MODIFIED:20240909T160825Z
UID:4705-1670079600-1670166000@azphil.org
SUMMARY:PAZ\, by Jácome Flamenco
DESCRIPTION:Internationally acclaimed flamenco duo Chris & Lena Jácome team up with musicians from Arizona Philharmonic to offer a unique and unforgettable Holiday Experience. It is the spirit of PAZ (Spanish for peace) that inspires Chris Jácome’s flamenco-infused Christmas arrangements as well as original music. With Allen Ames on violin\, Jeannette Moore on flute\, and Ruthie Wilde on cello they will feature such Christmas favorites as Silent Night\, Little Drummer Boy\, and The First Noel. \nChris & Lena Jácome provide intimate\, inviting and exhilarating flamenco performances that only a perfectly matched pair can manifest. Chris and Lena’s mesmerizing concerts reflect kindred spirits who share their love for each other through their art. \nTheir exquisitely refined\, authentic and heartfelt approach to flamenco reflects years of training in Sevilla\, Spain built on top of their original American musical roots and formal ballet/modern dance training. They have published nine albums\, two DVDs\, sheet music\, and online training courses. Chris B. Jácome composes for the Jácome Flamenco touring company and has a number of orchestra\, chamber ensemble\, movie\, and television scores to his credit. \nThe Jácomes have performed internationally in Mexico\, Canada\, Spain and Indonesia\, and at prestigious venues such as the Lincoln Center in New York City and the Redlands Bowl in California. They are a regular visitor to Prescott\, having performed solo\, chamber\, and concerto concerts with Arizona Philharmonic. \nArizona Philharmonic (AZ Phil) is celebrating its fifth season in Prescott in 2022-2023 as Prescott’s regional professional orchestra\, presenting large and small concerts that engage and inspire listeners. Based in Prescott\, AZ Phil draws musicians from across Arizona and is committed to offering transformative music\, while nurturing community participation and supporting the needs and growth of the Prescott area performing arts scene. Recognized in 2021 by the Prescott Chamber of Commerce for Excellence in Arts and Culture\, Arizona Philharmonic is a 501(c)3 nonprofit organization. Ticket information\, sponsorship and volunteer opportunities can be found at AZPhil.org or on Facebook. \n  \n 
URL:https://azphil.org/event/paz-by-jacome-flamenco-a-flamenco-christmas-celebration-2/
CATEGORIES:Past Events
ATTACH;FMTTYPE=image/jpeg:https://azphil.org/wp-content/uploads/2022/10/PAZ-Jacome-Flamenco.jpg
END:VEVENT
BEGIN:VEVENT
DTSTART;TZID=America/Phoenix:20221203T150000
DTEND;TZID=America/Phoenix:20221203T150000
DTSTAMP:20260424T143720
CREATED:20221012T144240Z
LAST-MODIFIED:20221202T193017Z
UID:4649-1670079600-1670079600@azphil.org
SUMMARY:PAZ\, by Jácome Flamenco - A Flamenco Christmas Celebration
DESCRIPTION:This December 3\, 2022 3:00pm concert is at the Vista Center for the Arts in Surprise\, AZ\nInternationally acclaimed flamenco duo Chris & Lena Jácome team up with musicians from Arizona Philharmonic to offer a unique and unforgettable Holiday Experience. It is the spirit of PAZ (Spanish for peace) that inspires Chris Jácome’s flamenco-infused Christmas arrangements as well as original music. With Allen Ames on violin\, Jeannette Moore on flute\, and Ruthie Wilde on cello they will feature such Christmas favorites as Silent Night\, Little Drummer Boy\, and The First Noel. \nChris & Lena Jácome provide intimate\, inviting and exhilarating flamenco performances that only a perfectly matched pair can manifest. Chris and Lena’s mesmerizing concerts reflect kindred spirits who share their love for each other through their art. \nTheir exquisitely refined\, authentic and heartfelt approach to flamenco reflects years of training in Sevilla\, Spain built on top of their original American musical roots and formal ballet/modern dance training. They have published nine albums\, two DVDs\, sheet music\, and online training courses. Chris B. Jácome composes for the Jácome Flamenco touring company and has a number of orchestra\, chamber ensemble\, movie\, and television scores to his credit. \nThe Jácomes have performed internationally in Mexico\, Canada\, Spain and Indonesia\, and at prestigious venues such as the Lincoln Center in New York City and the Redlands Bowl in California. They are a regular visitor to Prescott\, having performed solo\, chamber\, and concerto concerts with Arizona Philharmonic. \nArizona Philharmonic (AZ Phil) is celebrating its fifth season in Prescott in 2022-2023 as Prescott’s regional professional orchestra\, presenting large and small concerts that engage and inspire listeners. Based in Prescott\, AZ Phil draws musicians from across Arizona and is committed to offering transformative music\, while nurturing community participation and supporting the needs and growth of the Prescott area performing arts scene. Recognized in 2021 by the Prescott Chamber of Commerce for Excellence in Arts and Culture\, Arizona Philharmonic is a 501(c)3 nonprofit organization. Ticket information\, sponsorship and volunteer opportunities can be found at AZPhil.org or on Facebook. \n\n\nAlso performing in Prescott\, AZ on Dec 4 at the Elks Theatre. Click here.
URL:https://azphil.org/event/paz-by-jacome-flamenco-a-flamenco-christmas-celebration-vista/
LOCATION:Vista Center for the Arts\, 15660 N Parkview Pl.\, Surprise\, AZ\, 85374\, United States
CATEGORIES:2022-23 Season
ATTACH;FMTTYPE=image/jpeg:https://azphil.org/wp-content/uploads/2022/10/Flamenco-Vista_a.jpg
END:VEVENT
BEGIN:VEVENT
DTSTART;TZID=America/Phoenix:20221016T150000
DTEND;TZID=America/Phoenix:20221016T150000
DTSTAMP:20260424T143720
CREATED:20220415T143003Z
LAST-MODIFIED:20221121T152351Z
UID:3089-1665932400-1665932400@azphil.org
SUMMARY:Classic Wines in New Bottles
DESCRIPTION:Peter Bay\, Conductor \nString Orchestra and Harpsichord \n\nPeter Warlock: Capriol Suite\nMyroslav Skoryk: Melody\nJ.S. Bach: Violin Concerto No. 2 In E Major\, BWV 1042\nJessie Montgomery: Strum\nEdvard Grieg: From Holberg’s Time\, Op. 40\n\nPeter Bay\, Conductor\nKatie McLin\, violin soloist \nDOWNLOAD PROGRAM NOTES HERE\nMaestro Peter Bay presents Classic Wines in New Bottles\, a concert of music inspired by composers and genres from earlier eras. The lilt of Renaissance dances permeates Peter Warlock’s most popular work\, Capriol Suite. Violinist Katie McLin solos in J. S. Bach’s Violin Concerto No. 2\, which is both modeled upon and breaking with Vivaldi’s concerto form. Strum is an engaging celebration of American folk idioms by acclaimed composer Jesse Montgomery. And Edvard Grieg’s From Holberg’s Time\, Op. 40 is grounded in the 18th century contrapuntal style\, but with romantic colorations. AZ Phil also honors the people of Ukraine with Ukrainian composer Myroslav Skoryk’s Melody\, a beautiful work embraced as a spiritual anthem for the nation.
URL:https://azphil.org/event/classic-wine-in-new-bottles/
LOCATION:The Jim & Linda Lee Performing Arts Center\, 1100 East Sheldon St.\, Prescott\, AZ\, 86301\, United States
CATEGORIES:2022-23 Season,Past Events
ATTACH;FMTTYPE=image/jpeg:https://azphil.org/wp-content/uploads/2022/04/ClassicWine-16-9.jpg
END:VEVENT
BEGIN:VEVENT
DTSTART;TZID=America/Phoenix:20220925T150000
DTEND;TZID=America/Phoenix:20220925T150000
DTSTAMP:20260424T143720
CREATED:20220415T142708Z
LAST-MODIFIED:20240909T161646Z
UID:3084-1664118000-1664118000@azphil.org
SUMMARY:Sonoran Winds 2022
DESCRIPTION:Woodwind Quintet\nFlute\, Oboe\, Clarinet\, Bassoon\, French Horn \n\nHenry Mancini: The Pink Panther\nJean Francaix: Woodwind Quartet\nMaurice Ravel: Le Tombeau de Couperin\nZequinha de Abreu: Tico Tico no Fuba\nMaurice Ravel: Piece en Forme de Habanera\nGeorges Auric: Trio for Oboe\, Clarinet and Bassoon\nGeorge Gershwin: Bess You Is My Woman\nGeorge Gershwin: Summertime\nGeorge Gershwin: I Got Plenty of Nothing\n\nSonoran Winds Quintet\, comprised of Arizona Philharmonic‘s five principal woodwind players\, returns to our stage for another captivating concert. Featuring rich\, melodic\, and lively works of Gershwin\, Ravel\, Françaix\, Mancini\, and others\, this concert offers a variety of colors and rich harmonies presented with both virtuosity and lyricism. We invite you to enjoy the beauty and diversity possible with this ensemble. \n\nWorks to be performed are subject to change. \n\n 
URL:https://azphil.org/event/sonoran-winds/
LOCATION:The Jim & Linda Lee Performing Arts Center\, 1100 East Sheldon St.\, Prescott\, AZ\, 86301\, United States
CATEGORIES:2022-23 Season,Past Events
ATTACH;FMTTYPE=image/jpeg:https://azphil.org/wp-content/uploads/2022/04/SonoranWInds16-9.jpg
END:VEVENT
BEGIN:VEVENT
DTSTART;TZID=America/Phoenix:20220821T150000
DTEND;TZID=America/Phoenix:20220821T150000
DTSTAMP:20260424T143720
CREATED:20220316T151432Z
LAST-MODIFIED:20220824T145414Z
UID:2319-1661094000-1661094000@azphil.org
SUMMARY:Dancing from Tonga to Vienna
DESCRIPTION:Full Orchestra \n\nMendelssohn: Piano Concerto No. 1\nBeethoven: Symphony No. 7\nArgento: Royal Invitation (Homage to the Queen of Tonga)\n\nPeter Bay\, conductor\nSteinway Artist Thomas Pandolfi on piano \nMaestro Peter Bay returns to Prescott to open Arizona Philharmonic’s fifth season with a joyful program. Argento’s Royal Invitation is a humorous ballet score on the famous appearance of a charming Tongan queen at the coronation of Queen Elizabeth II. Pianist and Steinway Artist Thomas Pandolfi performs Felix Mendelssohn’s brilliant Piano Concerto No. 1. The concert closes with Beethoven’s exuberant Symphony No. 7\, a work that Richard Wagner famously called the “apotheosis of the dance.”
URL:https://azphil.org/event/dancing-from-tonga-to-vienna-thomas-pandolphi/
CATEGORIES:2022-23 Season,Past Events
ATTACH;FMTTYPE=image/jpeg:https://azphil.org/wp-content/uploads/2022/03/Pandolphi__8.21.22_Corr.jpg
END:VEVENT
BEGIN:VEVENT
DTSTART;TZID=America/Phoenix:20220717T140000
DTEND;TZID=America/Phoenix:20220717T160000
DTSTAMP:20260424T143720
CREATED:20220624T204433Z
LAST-MODIFIED:20220706T203648Z
UID:3869-1658066400-1658073600@azphil.org
SUMMARY:Music Without Walls
DESCRIPTION:Featuring flute\, clarinet and cello trio in the beautiful setting of the Kiwanis Amphitheater nestled in the cool pines. \nJULY 17\, 2022 \nTwo shows\, 2 and 4 pm \nIn case of rain\, the concert will be moved indoors.  \nEnjoy this unique trio of Arizona Philharmonic musicians\, featuring Mary Jackson (clarinet)\, Jeannette Moore (flute)\, and Marguerite Salajko (cello)\, who offer a concert of delightful and beautiful music. With selections inspired by folk dances\, toy boxes\, flowering gardens\, and a few classics\, they will share some of their favorite music and personal stories. \nSuitable for all ages\, tickets are available at $30 per adult\, and $5 for children. \nLimited Seating.  Purchase your tickets by clicking the button below.\n (NOTE: THIS EVENT IS NOT PART OF THE REGULAR AZPHIL SEASON.)
URL:https://azphil.org/event/music-without-walls/
LOCATION:Highlands Center for Natural History\, 1375 S Walker St.\, Prescott\, AZ\, 86303\, United States
CATEGORIES:Special
ATTACH;FMTTYPE=image/jpeg:https://azphil.org/wp-content/uploads/2022/06/MusicWalls3up.jpg
END:VEVENT
END:VCALENDAR