BEGIN:VCALENDAR
VERSION:2.0
PRODID:-//Arizona Philharmonic - ECPv6.15.20//NONSGML v1.0//EN
CALSCALE:GREGORIAN
METHOD:PUBLISH
X-ORIGINAL-URL:https://azphil.org
X-WR-CALDESC:Events for Arizona Philharmonic
REFRESH-INTERVAL;VALUE=DURATION:PT1H
X-Robots-Tag:noindex
X-PUBLISHED-TTL:PT1H
BEGIN:VTIMEZONE
TZID:America/Phoenix
BEGIN:STANDARD
TZOFFSETFROM:-0700
TZOFFSETTO:-0700
TZNAME:MST
DTSTART:20210101T000000
END:STANDARD
END:VTIMEZONE
BEGIN:VEVENT
DTSTART;TZID=America/Phoenix:20221204T150000
DTEND;TZID=America/Phoenix:20221204T150000
DTSTAMP:20260423T121706
CREATED:20221008T140810Z
LAST-MODIFIED:20221205T155347Z
UID:4591-1670166000-1670166000@azphil.org
SUMMARY:PAZ\, by Jácome Flamenco - A Flamenco Christmas Celebration
DESCRIPTION:This December 4\, 2022 3:00pm concert is at the Elks Theatre in Prescott\, AZ.\nInternationally acclaimed flamenco duo Chris & Lena Jácome team up with musicians from Arizona Philharmonic to offer a unique and unforgettable Holiday Experience. It is the spirit of PAZ (Spanish for peace) that inspires Chris Jácome’s flamenco-infused Christmas arrangements as well as original music. With Allen Ames on violin\, Jeannette Moore on flute\, and Ruthie Wilde on cello they will feature such Christmas favorites as Silent Night\, Little Drummer Boy\, and The First Noel. \nChris & Lena Jácome provide intimate\, inviting and exhilarating flamenco performances that only a perfectly matched pair can manifest. Chris and Lena’s mesmerizing concerts reflect kindred spirits who share their love for each other through their art. \nTheir exquisitely refined\, authentic and heartfelt approach to flamenco reflects years of training in Sevilla\, Spain built on top of their original American musical roots and formal ballet/modern dance training. They have published nine albums\, two DVDs\, sheet music\, and online training courses. Chris B. Jácome composes for the Jácome Flamenco touring company and has a number of orchestra\, chamber ensemble\, movie\, and television scores to his credit. \nThe Jácomes have performed internationally in Mexico\, Canada\, Spain and Indonesia\, and at prestigious venues such as the Lincoln Center in New York City and the Redlands Bowl in California. They are a regular visitor to Prescott\, having performed solo\, chamber\, and concerto concerts with Arizona Philharmonic. \nArizona Philharmonic (AZ Phil) is celebrating its fifth season in Prescott in 2022-2023 as Prescott’s regional professional orchestra\, presenting large and small concerts that engage and inspire listeners. Based in Prescott\, AZ Phil draws musicians from across Arizona and is committed to offering transformative music\, while nurturing community participation and supporting the needs and growth of the Prescott area performing arts scene. Recognized in 2021 by the Prescott Chamber of Commerce for Excellence in Arts and Culture\, Arizona Philharmonic is a 501(c)3 nonprofit organization. Ticket information\, sponsorship and volunteer opportunities can be found at AZPhil.org or on Facebook. \n\n\n\nAlso performing in Surprise\, AZ on Dec 3 at the Vista Center for the Arts. Click here.
URL:https://azphil.org/event/paz-by-jacome-flamenco-a-flamenco-christmas-celebration/
LOCATION:Elks Theater\, Prescott\, 117 E Gurley St\, Prescott\, AZ\, 86301\, United States
CATEGORIES:2022-23 Season,Holiday
ATTACH;FMTTYPE=image/jpeg:https://azphil.org/wp-content/uploads/2022/10/Flamenco-Featured-Text2b.jpg
END:VEVENT
END:VCALENDAR