BEGIN:VCALENDAR
VERSION:2.0
PRODID:-//Arizona Philharmonic - ECPv6.15.20//NONSGML v1.0//EN
CALSCALE:GREGORIAN
METHOD:PUBLISH
X-ORIGINAL-URL:https://azphil.org
X-WR-CALDESC:Events for Arizona Philharmonic
REFRESH-INTERVAL;VALUE=DURATION:PT1H
X-Robots-Tag:noindex
X-PUBLISHED-TTL:PT1H
BEGIN:VTIMEZONE
TZID:America/Phoenix
BEGIN:STANDARD
TZOFFSETFROM:-0700
TZOFFSETTO:-0700
TZNAME:MST
DTSTART:20250101T000000
END:STANDARD
END:VTIMEZONE
BEGIN:VEVENT
DTSTART;TZID=America/Phoenix:20260430T153000
DTEND;TZID=America/Phoenix:20260430T153000
DTSTAMP:20260423T103921
CREATED:20260309T021239Z
LAST-MODIFIED:20260309T021239Z
UID:10893-1777563000-1777563000@azphil.org
SUMMARY:Performance Prelude\, April - TBD
DESCRIPTION:
URL:https://azphil.org/event/performance-prelude-april-tbd/
LOCATION:Mountain Artists Guild\, 228 N Alarcon St B\, Prescott\, AZ\, 86301
CATEGORIES:2025-26 Season,Performance Prelude
END:VEVENT
BEGIN:VEVENT
DTSTART;TZID=America/Phoenix:20260503T150000
DTEND;TZID=America/Phoenix:20260503T150000
DTSTAMP:20260423T103921
CREATED:20260309T013412Z
LAST-MODIFIED:20260309T215332Z
UID:10878-1777820400-1777820400@azphil.org
SUMMARY:Dances and Dialog - Courtship\, Crossings\, and Celebration
DESCRIPTION:Close our 2025–26 season with husband-and-wife duo Katherine McLin (violin) and Andrew Campbell (piano) in a program that pairs musical dialogue with dance‑driven finales. It opens in Baroque elegance with a Leclair Violin Sonata. Zwilich’s Episodes gives that dialogue an American accent: a song‑like Arioso followed by a compact\, dance‑like Vivace. Korngold (of Hollywood film score fame) follows with four scenes from Shakespeare’s Much Ado About Nothing moving from an intimate bridal chamber to comic march\, garden scene\, and a hornpipe masquerade. After intermission\, Brahms’s Violin Sonata No. 3 anchors the afternoon with its long dramatic arc. The concert closes with a final set that leans into dance: Henry Flurry’s Machiche\, followed by de Falla’s Danse espagnole arranged in the Kreisler tradition\, Piazzolla’s tango ‘Nightclub 1960\,’ and Ashokan Farewell. \n  \nTickets to Arizona Philharmonic concerts begin at $25\, but if this amount doesn’t fit in your budget\,  check out Art 4 All™\, a donate-what-you-can opportunity offered by AZ Phil to hear top-quality professional musicians perform. \n Concert and Ticket Information\n Art 4 All Information\n  \n 
URL:https://azphil.org/event/dances-and-dialog/
LOCATION:Ruth Street Theater\, 1050 Ruth Street\, Prescott\, AZ\, 86301
CATEGORIES:2025-26 Season
ATTACH;FMTTYPE=image/jpeg:https://azphil.org/wp-content/uploads/2026/03/McLin-Campbell-2-lower-resolution-adjusted.jpeg
END:VEVENT
END:VCALENDAR