BEGIN:VCALENDAR
VERSION:2.0
PRODID:-//Arizona Philharmonic - ECPv6.15.20//NONSGML v1.0//EN
CALSCALE:GREGORIAN
METHOD:PUBLISH
X-WR-CALNAME:Arizona Philharmonic
X-ORIGINAL-URL:https://azphil.org
X-WR-CALDESC:Events for Arizona Philharmonic
REFRESH-INTERVAL;VALUE=DURATION:PT1H
X-Robots-Tag:noindex
X-PUBLISHED-TTL:PT1H
BEGIN:VTIMEZONE
TZID:America/Phoenix
BEGIN:STANDARD
TZOFFSETFROM:-0700
TZOFFSETTO:-0700
TZNAME:MST
DTSTART:20220101T000000
END:STANDARD
END:VTIMEZONE
BEGIN:VEVENT
DTSTART;TZID=America/Phoenix:20231217T150000
DTEND;TZID=America/Phoenix:20231217T150000
DTSTAMP:20260423T075722
CREATED:20230609T203727Z
LAST-MODIFIED:20240909T161107Z
UID:5945-1702825200-1702825200@azphil.org
SUMMARY:We Wish You Christmas
DESCRIPTION:We Wish You Christmas \nBack by popular demand after two sold out concerts in 2021! \nExperience the wonder and hope of the holidays as Arizona Philharmonic presents We Wish You Christmas\, featuring the beautiful vocal stylings of three esteemed Arizona sopranos – Emily Spencer\, Sarah Smith\, and Claire Penneau – accompanied by Arizona Philharmonic chamber musicians. \n\nWith principal musicians of Arizona Philharmonic and James D’León on piano\, this unique ensemble brings back some favorites of our 2021 performances and celebrates other Christmas tunes in new settings arranged by composer Mathew Lanning. \nNo holiday season is complete without the music that excites the senses and warms the heart. \nVIDEO
URL:https://azphil.org/event/we-wish-you-christmas/
LOCATION:Ruth Street Theater\, 1050 Ruth Street\, Prescott\, AZ\, 86301
CATEGORIES:2023-24 Season Prescott,Past Events 2023-24
ATTACH;FMTTYPE=image/jpeg:https://azphil.org/wp-content/uploads/2023/06/emily_700.jpg
END:VEVENT
END:VCALENDAR