BEGIN:VCALENDAR
VERSION:2.0
PRODID:-//Arizona Philharmonic - ECPv6.15.20//NONSGML v1.0//EN
CALSCALE:GREGORIAN
METHOD:PUBLISH
X-WR-CALNAME:Arizona Philharmonic
X-ORIGINAL-URL:https://azphil.org
X-WR-CALDESC:Events for Arizona Philharmonic
REFRESH-INTERVAL;VALUE=DURATION:PT1H
X-Robots-Tag:noindex
X-PUBLISHED-TTL:PT1H
BEGIN:VTIMEZONE
TZID:America/Phoenix
BEGIN:STANDARD
TZOFFSETFROM:-0700
TZOFFSETTO:-0700
TZNAME:MST
DTSTART:20220101T000000
END:STANDARD
END:VTIMEZONE
BEGIN:VEVENT
DTSTART;TZID=America/Phoenix:20230604T153000
DTEND;TZID=America/Phoenix:20230604T173000
DTSTAMP:20260423T103008
CREATED:20230511T132427Z
LAST-MODIFIED:20230511T132542Z
UID:5674-1685892600-1685899800@azphil.org
SUMMARY:Test Event with TBA Venue
DESCRIPTION:This is a test.
URL:https://azphil.org/event/test-event-with-tba-venue/
LOCATION:TBA
END:VEVENT
END:VCALENDAR