BEGIN:VCALENDAR
VERSION:2.0
PRODID:-//Arizona Philharmonic - ECPv6.15.20//NONSGML v1.0//EN
CALSCALE:GREGORIAN
METHOD:PUBLISH
X-WR-CALNAME:Arizona Philharmonic
X-ORIGINAL-URL:https://azphil.org
X-WR-CALDESC:Events for Arizona Philharmonic
REFRESH-INTERVAL;VALUE=DURATION:PT1H
X-Robots-Tag:noindex
X-PUBLISHED-TTL:PT1H
BEGIN:VTIMEZONE
TZID:America/Phoenix
BEGIN:STANDARD
TZOFFSETFROM:-0700
TZOFFSETTO:-0700
TZNAME:MST
DTSTART:20220101T000000
END:STANDARD
END:VTIMEZONE
BEGIN:VEVENT
DTSTART;TZID=America/Phoenix:20231118T193000
DTEND;TZID=America/Phoenix:20231118T193000
DTSTAMP:20260423T110051
CREATED:20230828T140701Z
LAST-MODIFIED:20240219T150928Z
UID:6417-1700335800-1700335800@azphil.org
SUMMARY:Sonoran Winds\, Scottsdale\, AZ
DESCRIPTION:This program by the Sonoran Winds—comprised of principal players of Arizona Philharmonic—includes four works\, beginning with one of the quintets of Anton Reicha. These early 19th-century pieces played an important role in popularizing the woodwind quintet as an ensemble. Next is a contemporary work\, the colorful Quintet for Winds by Robert Muczyinski. The most recent work on the program\, the Four Bagatelles of Andrey Rubtsov\, is a light\, enjoyable work with several flashes of humor. To close\, we have the Early Hungarian Dances of Ferenc Farkas\, witty arrangements of 17th-century courtly dances.
URL:https://azphil.org/event/sonoran-winds-scottsdale-az/
LOCATION:ASU Kerr\, 6110 N. Scottsdale Rd.\, Scottsdale\, 85253\, United States
CATEGORIES:2023-24 Season Valley Area
ATTACH;FMTTYPE=image/jpeg:https://azphil.org/wp-content/uploads/2023/06/Sonoran-Winds_New700.jpg
END:VEVENT
END:VCALENDAR