BEGIN:VCALENDAR
VERSION:2.0
PRODID:-//Arizona Philharmonic - ECPv6.15.20//NONSGML v1.0//EN
CALSCALE:GREGORIAN
METHOD:PUBLISH
X-WR-CALNAME:Arizona Philharmonic
X-ORIGINAL-URL:https://azphil.org
X-WR-CALDESC:Events for Arizona Philharmonic
REFRESH-INTERVAL;VALUE=DURATION:PT1H
X-Robots-Tag:noindex
X-PUBLISHED-TTL:PT1H
BEGIN:VTIMEZONE
TZID:America/Phoenix
BEGIN:STANDARD
TZOFFSETFROM:-0700
TZOFFSETTO:-0700
TZNAME:MST
DTSTART:20220101T000000
END:STANDARD
END:VTIMEZONE
BEGIN:VEVENT
DTSTART;TZID=America/Phoenix:20230909T193000
DTEND;TZID=America/Phoenix:20230909T193000
DTSTAMP:20260423T093018
CREATED:20230810T204812Z
LAST-MODIFIED:20240909T142235Z
UID:6315-1694287800-1694287800@azphil.org
SUMMARY:Serenades and Symphonies\, Gilbert\, AZ
DESCRIPTION:To open the Arizona Philharmonic’s sixth season\, we have a pair of Czech composers from two generations. Dvořák’s Wind Serenade\, comes from 1878\, a time when he was first achieving international fame. It is filled to the brim with Czech/Bohemian musical flavor. Martinů’s engaging Sinfonietta “La Jolla” was composed in 1950\, when he was living in United States. This is very much a work of the 20th century\, but it also reflects the folk music of his native land. We close with one of the brightest of Beethoven’s nine symphonies\, the vivacious Symphony No. 4. \nAs an additional highlight\, Arizona Philharmonic will premiere two orchestral miniatures written with Lincoln Elementary School second graders during an Arizona Philharmonic spring 2023 residency offered in collaboration with the Highlands Center for Natural History and Prescott Unified School District. \nClick the links below to hear the composition and see the score. Then\, come hear the world premiers at this Saturday’s concert! \n Solitary Storm | Moving Mountains\n 
URL:https://azphil.org/event/serenades-and-symphonies-higley/
LOCATION:Higley Center for the Performing Arts\, 4132 E. Pecos Road\, Gilbert\, AZ\, 85295\, United States
CATEGORIES:2023-24 Season Valley Area
ATTACH;FMTTYPE=image/jpeg:https://azphil.org/wp-content/uploads/2023/06/PeterBay.jpg
END:VEVENT
END:VCALENDAR