BEGIN:VCALENDAR
VERSION:2.0
PRODID:-//Arizona Philharmonic - ECPv6.15.20//NONSGML v1.0//EN
CALSCALE:GREGORIAN
METHOD:PUBLISH
X-WR-CALNAME:Arizona Philharmonic
X-ORIGINAL-URL:https://azphil.org
X-WR-CALDESC:Events for Arizona Philharmonic
REFRESH-INTERVAL;VALUE=DURATION:PT1H
X-Robots-Tag:noindex
X-PUBLISHED-TTL:PT1H
BEGIN:VTIMEZONE
TZID:America/Phoenix
BEGIN:STANDARD
TZOFFSETFROM:-0700
TZOFFSETTO:-0700
TZNAME:MST
DTSTART:20240101T000000
END:STANDARD
END:VTIMEZONE
BEGIN:VEVENT
DTSTART;TZID=America/Phoenix:20251204T153000
DTEND;TZID=America/Phoenix:20251204T153000
DTSTAMP:20260423T120449
CREATED:20260309T020233Z
LAST-MODIFIED:20260309T021626Z
UID:10887-1764862200-1764862200@azphil.org
SUMMARY:Performance Prelude\, December - Joshua Haake
DESCRIPTION:
URL:https://azphil.org/event/performance-prelude-december-joshua-haake/
LOCATION:Mountain Artists Guild\, 228 N Alarcon St B\, Prescott\, AZ\, 86301
CATEGORIES:2025-26 Season,Performance Prelude
END:VEVENT
END:VCALENDAR