BEGIN:VCALENDAR
VERSION:2.0
PRODID:-//Arizona Philharmonic - ECPv6.15.20//NONSGML v1.0//EN
CALSCALE:GREGORIAN
METHOD:PUBLISH
X-WR-CALNAME:Arizona Philharmonic
X-ORIGINAL-URL:https://azphil.org
X-WR-CALDESC:Events for Arizona Philharmonic
REFRESH-INTERVAL;VALUE=DURATION:PT1H
X-Robots-Tag:noindex
X-PUBLISHED-TTL:PT1H
BEGIN:VTIMEZONE
TZID:America/Phoenix
BEGIN:STANDARD
TZOFFSETFROM:-0700
TZOFFSETTO:-0700
TZNAME:MST
DTSTART:20230101T000000
END:STANDARD
END:VTIMEZONE
BEGIN:VEVENT
DTSTART;TZID=America/Phoenix:20240907T110000
DTEND;TZID=America/Phoenix:20240907T120000
DTSTAMP:20260423T110006
CREATED:20240821T154254Z
LAST-MODIFIED:20240821T154629Z
UID:8315-1725706800-1725710400@azphil.org
SUMMARY:Passion\, Peace &. Power Community Lecture
DESCRIPTION:The Community Lecture Series is open to any and all individuals who are interested in taking a closer look at different topics within the world of Classical music. The Saturday before each concert during the 2024 – 2025 season\, Arizona Philharmonic will host one lecture that is open to the public\, highlighting unique aspects of each concert program. This educational lecture series will be interactive\, and is sure to provide both new and long-time Classical music lovers with a variety of knowledge from our guest presenters. \nJoin Maestro Peter Bay and Arizona Philharmonic Timpanist\, Maria Flurry\, on Saturday\, Sept. 7 at Ruth Street Theater as they kick-off Arizona Philharmonic’s first Community Lecture Series. \nTickets are $12 for adult and $5 for child for general admission.
URL:https://azphil.org/event/passion-peace-power-community-lecture/
LOCATION:Ruth Street Theater\, 1050 Ruth Street\, Prescott\, AZ\, 86301
CATEGORIES:Community Lecture Series
ATTACH;FMTTYPE=image/jpeg:https://azphil.org/wp-content/uploads/2024/08/Audience_600.jpg
END:VEVENT
END:VCALENDAR