BEGIN:VCALENDAR
VERSION:2.0
PRODID:-//Arizona Philharmonic - ECPv6.15.20//NONSGML v1.0//EN
CALSCALE:GREGORIAN
METHOD:PUBLISH
X-WR-CALNAME:Arizona Philharmonic
X-ORIGINAL-URL:https://azphil.org
X-WR-CALDESC:Events for Arizona Philharmonic
REFRESH-INTERVAL;VALUE=DURATION:PT1H
X-Robots-Tag:noindex
X-PUBLISHED-TTL:PT1H
BEGIN:VTIMEZONE
TZID:America/Phoenix
BEGIN:STANDARD
TZOFFSETFROM:-0700
TZOFFSETTO:-0700
TZNAME:MST
DTSTART:20240101T000000
END:STANDARD
END:VTIMEZONE
BEGIN:VEVENT
DTSTART;TZID=America/Phoenix:20251005T150000
DTEND;TZID=America/Phoenix:20251005T150000
DTSTAMP:20260423T103611
CREATED:20260309T012058Z
LAST-MODIFIED:20260309T063210Z
UID:10869-1759676400-1759676400@azphil.org
SUMMARY:Music Reimagined - Memory\, Music\, and Light
DESCRIPTION:Tickets to Arizona Philharmonic concerts begin at $25\, but if this amount doesn’t fit in your budget\,  check out Art 4 All™\, a donate-what-you-can opportunity offered by AZ Phil to hear top-quality professional musicians perform.
URL:https://azphil.org/event/music-reimagined/
LOCATION:Ruth Street Theater\, 1050 Ruth Street\, Prescott\, AZ\, 86301
CATEGORIES:2025-26 Season
END:VEVENT
END:VCALENDAR