BEGIN:VCALENDAR
VERSION:2.0
PRODID:-//Arizona Philharmonic - ECPv6.15.20//NONSGML v1.0//EN
CALSCALE:GREGORIAN
METHOD:PUBLISH
X-WR-CALNAME:Arizona Philharmonic
X-ORIGINAL-URL:https://azphil.org
X-WR-CALDESC:Events for Arizona Philharmonic
REFRESH-INTERVAL;VALUE=DURATION:PT1H
X-Robots-Tag:noindex
X-PUBLISHED-TTL:PT1H
BEGIN:VTIMEZONE
TZID:America/Phoenix
BEGIN:STANDARD
TZOFFSETFROM:-0700
TZOFFSETTO:-0700
TZNAME:MST
DTSTART:20220101T000000
END:STANDARD
END:VTIMEZONE
BEGIN:VEVENT
DTSTART;TZID=America/Phoenix:20230205T150000
DTEND;TZID=America/Phoenix:20230205T150000
DTSTAMP:20260423T074647
CREATED:20220415T145144Z
LAST-MODIFIED:20240909T161556Z
UID:3110-1675609200-1675609200@azphil.org
SUMMARY:manos percussion 2023
DESCRIPTION:Presents Wood\, Water and Wolfgang\nMaria Flurry\, Eddie Solomon\, Homero Cerón\, Fred Morgan \nThe percussion trio manos received a resounding standing ovation in 2020. Expanding to a quartet\, AZ Phil’s principal percussionist Eddie Solomon now joins our timpanist Maria Flurry and Tucson Symphony Orchestra percussionists Homero Cerón and Fred Morgan. In this concert they combine their percussion instruments of wood\, metal\, skin\, and water to snare you into a thoughtfully curated\, virtuosic program of familiar favorites and exotic musical selections. From delicate to bold to unabashedly fun\, manos delights the ears and fills the soul with percussion’s wealth of musical possibilities. \nSpecial guests include narrator Marnie Uhl\, soprano soloist Emily Spencer\, and local visual artist Carlos Duran\, who will paint a new work of art during some of the music on the concert. \nMaria Flurry’s pre-concert interview: \nhttpv://www.youtube.com/watch?v=5y7ckw4vIxg \n  \n\n 
URL:https://azphil.org/event/manos-percussion/
LOCATION:The Jim & Linda Lee Performing Arts Center\, 1100 East Sheldon St.\, Prescott\, AZ\, 86301\, United States
CATEGORIES:2022-23 Season,Past Events
ATTACH;FMTTYPE=image/jpeg:https://azphil.org/wp-content/uploads/2022/04/manos_percussion_trio.jpg
END:VEVENT
END:VCALENDAR