BEGIN:VCALENDAR
VERSION:2.0
PRODID:-//Arizona Philharmonic - ECPv6.15.20//NONSGML v1.0//EN
CALSCALE:GREGORIAN
METHOD:PUBLISH
X-WR-CALNAME:Arizona Philharmonic
X-ORIGINAL-URL:https://azphil.org
X-WR-CALDESC:Events for Arizona Philharmonic
REFRESH-INTERVAL;VALUE=DURATION:PT1H
X-Robots-Tag:noindex
X-PUBLISHED-TTL:PT1H
BEGIN:VTIMEZONE
TZID:America/Phoenix
BEGIN:STANDARD
TZOFFSETFROM:-0700
TZOFFSETTO:-0700
TZNAME:MST
DTSTART:20220101T000000
END:STANDARD
END:VTIMEZONE
BEGIN:VEVENT
DTSTART;TZID=America/Phoenix:20230108T150000
DTEND;TZID=America/Phoenix:20230108T150000
DTSTAMP:20260423T090016
CREATED:20220415T145008Z
LAST-MODIFIED:20240909T161502Z
UID:3107-1673190000-1673190000@azphil.org
SUMMARY:James D’León and Friends 2023
DESCRIPTION:Piano Quintet and subsets\nPiano\, two Violins\, Viola\, Cello \n\nHaydn: Piano Trio No. 39 in G major\, Hob. XV/25 “Gypsy”\nMozart: Duo for Violin and Viola in G Major\, K. 423\nSchoenfield: Cafe Music\nSchumann: Piano Quintet in E-flat Major\, Op. 44\n\n\nJames D’León once again joins the Arizona Philharmonic String Quartet for another stunning piano quintet concert. Violinist Katie McLin\, other principal string players of Arizona Philharmonic\, and D’León present Haydn’s classical Piano Trio No. 39 in G major\, Robert Schumann’s luscious Piano Quintet\, and Paul Schoenfield’s jazzy and sensuous Cafe Music. \nFeaturing James D’León (piano)\, Katie McLin (violin 1)\, Luke Hill (violin 2)\, Kimberly Hankins (viola)\, and Ruthie Wilde (cello). \nListen to the music we’re performing here: \nhttpv://www.youtube.com/playlist?list=PLbiXD70LPpWMnf-q4yRBK_DnKAT9wQqsG \nWatch James offer some pre-concert commentary: \nhttpv://www.youtube.com/watch?v=0AiBpvnnjo4
URL:https://azphil.org/event/james-dleon-and-friends/
LOCATION:The Jim & Linda Lee Performing Arts Center\, 1100 East Sheldon St.\, Prescott\, AZ\, 86301\, United States
CATEGORIES:2022-23 Season,Past Events
ATTACH;FMTTYPE=image/jpeg:https://azphil.org/wp-content/uploads/2022/04/James-Quintet.Image_.JamesDLeon4-Lightened-scaled.jpg
END:VEVENT
END:VCALENDAR