BEGIN:VCALENDAR
VERSION:2.0
PRODID:-//Arizona Philharmonic - ECPv6.15.20//NONSGML v1.0//EN
CALSCALE:GREGORIAN
METHOD:PUBLISH
X-WR-CALNAME:Arizona Philharmonic
X-ORIGINAL-URL:https://azphil.org
X-WR-CALDESC:Events for Arizona Philharmonic
REFRESH-INTERVAL;VALUE=DURATION:PT1H
X-Robots-Tag:noindex
X-PUBLISHED-TTL:PT1H
BEGIN:VTIMEZONE
TZID:America/Phoenix
BEGIN:STANDARD
TZOFFSETFROM:-0700
TZOFFSETTO:-0700
TZNAME:MST
DTSTART:20230101T000000
END:STANDARD
END:VTIMEZONE
BEGIN:VEVENT
DTSTART;TZID=America/Phoenix:20241005T110000
DTEND;TZID=America/Phoenix:20241005T120000
DTSTAMP:20260423T093002
CREATED:20240916T191021Z
LAST-MODIFIED:20240923T171854Z
UID:8577-1728126000-1728129600@azphil.org
SUMMARY:James D’León and Friends Community Lecture
DESCRIPTION:The Community Lecture Series is open to any and all individuals who are interested in taking a closer look at different topics within the world of Classical music. The Saturday before each concert during the 2024 – 2025 season\, Arizona Philharmonic will host one lecture that is open to the public\, highlighting unique aspects of each concert program. This educational lecture series will be interactive\, and is sure to provide both new and long-time Classical music lovers with a variety of knowledge from our guest presenters. \nOn October 5th\, join Steinway Artist\, James D’León\, for an interactive discussion on Hearing Colors and Feeling Sounds.\nDid you ever stop to notice what senses are being affected when you listen to music? Although it seems like we simply sit\, watch\, and listen to a musical performance\, there is much more going on\, both consciously and subconsciously. In this lecture\, join International Steinway Artist James D’León as he takes you on a musical journey in which he talks about the basics of synesthesia (the ability of the brain to route sensory information through multiple unrelated senses) and hones your skills through various musical examples performed on the piano. You will not only step into a fascinating world in where sounds will ignite other senses\, but you will also be able to use these skills at your next concert experience. \nTickets are $12 for adult and $5 for child for general admission.\nLocation is Ruth Street Theater at 11:00 am on October 5.\nIf you are an OLLI member\, visit YC.EDU here to see what discounts are offered on this series.
URL:https://azphil.org/event/james-dleon-and-friends-community-lecture/
LOCATION:Ruth Street Theater\, 1050 Ruth Street\, Prescott\, AZ\, 86301
CATEGORIES:Community Lecture Series
ATTACH;FMTTYPE=image/jpeg:https://azphil.org/wp-content/uploads/2024/09/DLeon-interview-600-box.jpg
END:VEVENT
END:VCALENDAR