BEGIN:VCALENDAR
VERSION:2.0
PRODID:-//Arizona Philharmonic - ECPv6.15.20//NONSGML v1.0//EN
CALSCALE:GREGORIAN
METHOD:PUBLISH
X-WR-CALNAME:Arizona Philharmonic
X-ORIGINAL-URL:https://azphil.org
X-WR-CALDESC:Events for Arizona Philharmonic
REFRESH-INTERVAL;VALUE=DURATION:PT1H
X-Robots-Tag:noindex
X-PUBLISHED-TTL:PT1H
BEGIN:VTIMEZONE
TZID:America/Phoenix
BEGIN:STANDARD
TZOFFSETFROM:-0700
TZOFFSETTO:-0700
TZNAME:MST
DTSTART:20230101T000000
END:STANDARD
END:VTIMEZONE
BEGIN:VEVENT
DTSTART;TZID=America/Phoenix:20241006T150000
DTEND;TZID=America/Phoenix:20241006T150000
DTSTAMP:20260423T080430
CREATED:20240412T204328Z
LAST-MODIFIED:20241010T154459Z
UID:7660-1728226800-1728226800@azphil.org
SUMMARY:James D’León and Friends
DESCRIPTION:James D’León\, Piano\nSteinway Artist James D’León and Arizona Philharmonic’s principal string musicians unite in this annual audience favorite for a chamber concert that spans the romantic fervor and lyrical depth of the 19th and 20th centuries. The concert begins with Fanny Mendelssohn’s Piano Trio in D minor\, Op. 11\, a piece that combines the composer’s rich melodic sensibility with the dramatic intensity of the Romantic era\, highlighting her as a pivotal yet often overlooked figure in music history. The program then progresses to the 20th century with Herbert Howells’ Piano Quartet in A minor\, Op. 21\, a work that weaves intricate textures and hauntingly beautiful melodies\, showcasing Howells’ unique voice within the English musical renaissance. The concert concludes with Johannes Brahms’ jubilant Piano Trio in B major\, Op. 8\, a blend of the composer’s youthful exuberance and emotional depth. \nRepertoire\nPiano Trio in d minor\, Op. 11 by Fanny Mendelssohn  \nPiano Quartet in a minor\, Op. 21 by Herbert Howells \nPiano Trio in B major\, Op. 8 by Johannes Brahms  \nConcert repertoire is always subject to change.
URL:https://azphil.org/event/james-dleon-and-friends-2024/
LOCATION:Ruth Street Theater\, 1050 Ruth Street\, Prescott\, AZ\, 86301
CATEGORIES:2024-25 Season,Past Events 24-25
ATTACH;FMTTYPE=image/jpeg:https://azphil.org/wp-content/uploads/2024/04/DLeon-and-Friends.jpg
END:VEVENT
END:VCALENDAR