BEGIN:VCALENDAR
VERSION:2.0
PRODID:-//Arizona Philharmonic - ECPv6.15.20//NONSGML v1.0//EN
CALSCALE:GREGORIAN
METHOD:PUBLISH
X-WR-CALNAME:Arizona Philharmonic
X-ORIGINAL-URL:https://azphil.org
X-WR-CALDESC:Events for Arizona Philharmonic
REFRESH-INTERVAL;VALUE=DURATION:PT1H
X-Robots-Tag:noindex
X-PUBLISHED-TTL:PT1H
BEGIN:VTIMEZONE
TZID:America/Phoenix
BEGIN:STANDARD
TZOFFSETFROM:-0700
TZOFFSETTO:-0700
TZNAME:MST
DTSTART:20240101T000000
END:STANDARD
END:VTIMEZONE
BEGIN:VEVENT
DTSTART;TZID=America/Phoenix:20250202T150000
DTEND;TZID=America/Phoenix:20250202T150000
DTSTAMP:20260423T075448
CREATED:20240412T210243Z
LAST-MODIFIED:20250203T145133Z
UID:7674-1738508400-1738508400@azphil.org
SUMMARY:Eight by Four
DESCRIPTION:There will be a free pre-concert talk at 2:00pm at the Ruth Street Theater. \nJoin us for an evening with eight of Arizona Philharmonic’s finest string players. Dive into Mendelssohn’s String Octet in E-flat major\, celebrated for its youthful exuberance and complex harmonies. Experience Spanish composer Javier Martínez Campos’ octet\, Serenata para Cuerdas\, renowned for its rhythmic vitality and lyrical beauty. Discover Grażyna Bacewicz’s Quartet for 4 Violins\, a unique blend of Polish folk and neoclassicism\, offering both emotional depth and intricate structure. The concert also features beautiful works for the rich sonorities of the violas and cellos\, promising a diverse exploration of string chamber music’s rich landscapes. \nRepertoire\n\nConcert repertoire is always subject to change. \n\n\n\n\nTickets to Arizona Philharmonic concerts begin at $25\, but if this amount doesn’t fit in your budget\, CLICK HERE TO CHECK OUT Art 4 All™\, a donate-what-you-can opportunity offered by AZ Phil to hear top-quality professional musicians perform.
URL:https://azphil.org/event/eight-by-four/
LOCATION:Ruth Street Theater\, 1050 Ruth Street\, Prescott\, AZ\, 86301
CATEGORIES:2024-25 Season,Past Events 24-25
ATTACH;FMTTYPE=image/webp:https://azphil.org/wp-content/uploads/2025/01/8x4-800webp.webp
END:VEVENT
END:VCALENDAR