BEGIN:VCALENDAR
VERSION:2.0
PRODID:-//Arizona Philharmonic - ECPv6.15.20//NONSGML v1.0//EN
CALSCALE:GREGORIAN
METHOD:PUBLISH
X-WR-CALNAME:Arizona Philharmonic
X-ORIGINAL-URL:https://azphil.org
X-WR-CALDESC:Events for Arizona Philharmonic
REFRESH-INTERVAL;VALUE=DURATION:PT1H
X-Robots-Tag:noindex
X-PUBLISHED-TTL:PT1H
BEGIN:VTIMEZONE
TZID:America/Phoenix
BEGIN:STANDARD
TZOFFSETFROM:-0700
TZOFFSETTO:-0700
TZNAME:MST
DTSTART:20240101T000000
END:STANDARD
END:VTIMEZONE
BEGIN:VEVENT
DTSTART;TZID=America/Phoenix:20250427T150000
DTEND;TZID=America/Phoenix:20250427T150000
DTSTAMP:20260423T075521
CREATED:20240412T211120Z
LAST-MODIFIED:20250502T162728Z
UID:7680-1745766000-1745766000@azphil.org
SUMMARY:Echoes and Riffs
DESCRIPTION:There will be a free pre-concert talk at 2:00pm at the Ruth Street Theater. \nArizona Philharmonic\nPeter Bay\, conductor\nJames D’León\, piano\nJoin us for Arizona Philharmonic’s exciting\, last concert of the season\, featuring soloist James D’León under the baton of Maestro Peter Bay. The program spans diverse musical eras\, starting with the minimalist and spiritual tones of Arvo Pärt’s Fratres and moving through Ernest Bloch’s Baroque-inspired Concerto Grosso No. 1\, which interweaves the warmth of traditional harmonies with the richness of modern expression. Frederick Delius’s Prelude to Irmelin\, known for its lyrical beauty and serene\, fairytale atmosphere\, precedes the concert’s highlight: Nikolai Kapustin’s Piano Concerto No. 4\, Op. 56. Here\, D’León embarks on a thrilling and virtuosic ride\, blending classical precision with the spontaneous excitement of jazz. This lineup promises a richly varied musical journey from quiet transcendence to a jazz-infused climax. \nRepertoire\n  \nARVO PÄRT      \nFratres (1978\, rev. 1991)\nERNEST BLOCH\nConcerto Grosso No. 1 (1925)\nFREDERICK DELIUS\nPrelude to Irmelin\nNIKOLAI KAPUSTIN\nPiano Concerto No. 4\, Op. 56 (1989 \n\nConcert repertoire is always subject to change. \nAz Phil is excited to have the Mountain Artists Guild as a Concert Partner in Echoes and Riffs. Many thanks to all the artists and photographers who submitted work for the event!\nAll 19 entries will be displayed at the concert on April 27.  Entries will also be displayed at the Guild\, 228 N Alarcon\, Prescott on the 4th Friday artwalk 3/28\, through May 3.\n\n  \n\n\n\nTickets to Arizona Philharmonic concerts begin at $25\, but if this amount doesn’t fit in your budget\,  check out Art 4 All™\, a donate-what-you-can opportunity offered by AZ Phil to hear top-quality professional musicians perform.
URL:https://azphil.org/event/echoes-and-riffs/
LOCATION:Ruth Street Theater\, 1050 Ruth Street\, Prescott\, AZ\, 86301
CATEGORIES:2024-25 Season,Past Events 24-25
ATTACH;FMTTYPE=image/jpeg:https://azphil.org/wp-content/uploads/2024/04/Echoes-800.jpg
END:VEVENT
END:VCALENDAR