BEGIN:VCALENDAR
VERSION:2.0
PRODID:-//Arizona Philharmonic - ECPv6.15.20//NONSGML v1.0//EN
CALSCALE:GREGORIAN
METHOD:PUBLISH
X-WR-CALNAME:Arizona Philharmonic
X-ORIGINAL-URL:https://azphil.org
X-WR-CALDESC:Events for Arizona Philharmonic
REFRESH-INTERVAL;VALUE=DURATION:PT1H
X-Robots-Tag:noindex
X-PUBLISHED-TTL:PT1H
BEGIN:VTIMEZONE
TZID:America/Phoenix
BEGIN:STANDARD
TZOFFSETFROM:-0700
TZOFFSETTO:-0700
TZNAME:MST
DTSTART:20240101T000000
END:STANDARD
END:VTIMEZONE
BEGIN:VEVENT
DTSTART;TZID=America/Phoenix:20250111T110000
DTEND;TZID=America/Phoenix:20250111T120000
DTSTAMP:20260423T092925
CREATED:20241209T163129Z
LAST-MODIFIED:20250103T061215Z
UID:9263-1736593200-1736596800@azphil.org
SUMMARY:Community Lecture Series - manos percussion ensemble
DESCRIPTION:Arizona Philharmonic is pleased to present a new interactive “lecture” series during each concert cycle for the 2024 – 2025 season.  \nPrior to each Sunday performance\, on Saturdays at 11am at the Ruth Street Theater\, Arizona Philharmonic guest artists will engage lecture participants in lively coachings\, discussions\, and workshops based on various musical and artistic aspects of the upcoming concert. Enjoy creating personal connections with high-caliber musicians and artists in this unique lecture series. \nQuestions\, Answers\, and Hands-On with manos percussion\nJoin members of the manos percussion ensemble for an engaging informal lecture conversation that delves into the intricate world of classical music through the lens of percussion. \nMaria Vomlehn Flurry\, Josh Ferrell\, and Bensen Kwan will begin with an introduction to a variety of instruments\, including the vibrant steel pan\, the versatile drum set\, and the innovative concept of water percussion. \nFollowing this introduction\, we will facilitate an interactive question-and-answer session\, encouraging community members to express their thoughts and inquiries regarding these instruments and their roles within the classical music genre. \nTo culminate our experience\, we will offer a hands-on exploration of both the water percussion and drum set\, inviting participants to tap into their creativity and collaboratively produce music. Whether you are an accomplished musician or simply have a keen interest\, this event presents a valuable opportunity to learn\, engage\, and enjoy the art of music-making together. \nPlease note this event requires a ticket\, and is separate from the pre-concert talk at 2pm on Sunday\, January 11th. \nTickets are $12 for adults and $5 for children for general admission. \nLocation is Ruth Street Theater at 11:00 am on January 11.\nIf you are an OLLI member\, visit YC.EDU here to see what discounts are offered on this series. \n\n 
URL:https://azphil.org/event/community-lecture-series-manos-percussion-ensemble/
LOCATION:Ruth Street Theater\, 1050 Ruth Street\, Prescott\, AZ\, 86301
CATEGORIES:Community Lecture Series
ATTACH;FMTTYPE=image/jpeg:https://azphil.org/wp-content/uploads/2024/12/080418_11.39.53-Water-Bowl-1200w.jpg
END:VEVENT
END:VCALENDAR