BEGIN:VCALENDAR
VERSION:2.0
PRODID:-//Arizona Philharmonic - ECPv6.15.20//NONSGML v1.0//EN
CALSCALE:GREGORIAN
METHOD:PUBLISH
X-WR-CALNAME:Arizona Philharmonic
X-ORIGINAL-URL:https://azphil.org
X-WR-CALDESC:Events for Arizona Philharmonic
REFRESH-INTERVAL;VALUE=DURATION:PT1H
X-Robots-Tag:noindex
X-PUBLISHED-TTL:PT1H
BEGIN:VTIMEZONE
TZID:America/Phoenix
BEGIN:STANDARD
TZOFFSETFROM:-0700
TZOFFSETTO:-0700
TZNAME:MST
DTSTART:20230101T000000
END:STANDARD
END:VTIMEZONE
BEGIN:VEVENT
DTSTART;TZID=America/Phoenix:20241207T110000
DTEND;TZID=America/Phoenix:20241207T120000
DTSTAMP:20260423T104205
CREATED:20241111T205329Z
LAST-MODIFIED:20241112T155640Z
UID:9125-1733569200-1733572800@azphil.org
SUMMARY:Community Lecture Series - December Lecture with Barb Metz
DESCRIPTION:Arizona Philharmonic is pleased to present a new interactive “lecture” series during each concert cycle for the 2024 – 2025 season.  \nPrior to each Sunday performance\, on Saturdays at 11am at the Ruth Street Theater\, Arizona Philharmonic guest artists will engage lecture participants in lively coachings\, discussions\, and workshops based on various musical and artistic aspects of the upcoming concert. Enjoy creating personal connections with high-caliber musicians and artists in this unique lecture series. \nOn Saturday\, December 7th\, join Barb Metz\, Arizona Philharmonic Board Vice President and musicologist\, for an engaging dive into the beautiful and festive spirit of holiday music from Europe throughout the ages. You won’t want to miss this event!\nWhat makes Renaissance music different from other styles of music? Is it the music theory\, the instruments\, the character\, or a little of each? During this interactive lecture\, you will not only learn about festive holiday music from Europe\, but the nuances of music from the Renaissance period\, including demonstrations performed on period instruments\, like the viola da gamba. \nPlease note this event requires a ticket\, and is separate from the pre-concert talk at 2pm on Sunday\, December 8th. \nTickets are $12 for adults and $5 for children for general admission. \nLocation is Ruth Street Theater at 11:00 am on November 23.\nIf you are an OLLI member\, visit YC.EDU here to see what discounts are offered on this series. \n\n 
URL:https://azphil.org/event/community-lecture-series-december-lecture-with-barb-metz/
LOCATION:Ruth Street Theater\, 1050 Ruth Street\, Prescott\, AZ\, 86301
CATEGORIES:Community Lecture Series
ATTACH;FMTTYPE=image/jpeg:https://azphil.org/wp-content/uploads/2024/11/BarbMetz.jpg
END:VEVENT
END:VCALENDAR