BEGIN:VCALENDAR
VERSION:2.0
PRODID:-//Arizona Philharmonic - ECPv6.15.20//NONSGML v1.0//EN
CALSCALE:GREGORIAN
METHOD:PUBLISH
X-WR-CALNAME:Arizona Philharmonic
X-ORIGINAL-URL:https://azphil.org
X-WR-CALDESC:Events for Arizona Philharmonic
REFRESH-INTERVAL;VALUE=DURATION:PT1H
X-Robots-Tag:noindex
X-PUBLISHED-TTL:PT1H
BEGIN:VTIMEZONE
TZID:America/Phoenix
BEGIN:STANDARD
TZOFFSETFROM:-0700
TZOFFSETTO:-0700
TZNAME:MST
DTSTART:20250101T000000
END:STANDARD
END:VTIMEZONE
BEGIN:VEVENT
DTSTART;TZID=America/Phoenix:20260315T150000
DTEND;TZID=America/Phoenix:20260315T150000
DTSTAMP:20260423T132151
CREATED:20260309T012918Z
LAST-MODIFIED:20260309T214550Z
UID:10876-1773586800-1773586800@azphil.org
SUMMARY:Colors in Spring - Fire\, Dance\, and Shadow
DESCRIPTION:Step into a season of color\, energy\, and renewal with the return of a favorite chamber trio featuring double Steinway Artist James D’León. This spring-inspired program features Jennifer Higdon’s Piano Trio\, a study in sound and color; Rachmaninoff’s lyrical and emotionally charged Sonata for Cello and Piano\, composed during a period of creative rebirth; and Mendelssohn’s Piano Trio in C Minor\, a passionate and radiant work that surges from storm to triumph. \n\nTickets to Arizona Philharmonic concerts begin at $25\, but if this amount doesn’t fit in your budget\,  check out Art 4 All™\, a donate-what-you-can opportunity offered by AZ Phil to hear top-quality professional musicians perform. \n Concert and Ticket Information\n Art 4 All Information\n 
URL:https://azphil.org/event/colors-in-spring/
LOCATION:Ruth Street Theater\, 1050 Ruth Street\, Prescott\, AZ\, 86301
CATEGORIES:2025-26 Season
ATTACH;FMTTYPE=image/jpeg:https://azphil.org/wp-content/uploads/2026/03/JamesAndLuke-Cropped-scaled.jpg
END:VEVENT
END:VCALENDAR